BEGIN:VCALENDAR
VERSION:2.0
PRODID:-//Foundation 2 Crisis Center - ECPv6.15.19//NONSGML v1.0//EN
CALSCALE:GREGORIAN
METHOD:PUBLISH
X-WR-CALNAME:Foundation 2 Crisis Center
X-ORIGINAL-URL:https://foundation2.org
X-WR-CALDESC:Events for Foundation 2 Crisis Center
REFRESH-INTERVAL;VALUE=DURATION:PT1H
X-Robots-Tag:noindex
X-PUBLISHED-TTL:PT1H
BEGIN:VTIMEZONE
TZID:America/Chicago
BEGIN:DAYLIGHT
TZOFFSETFROM:-0600
TZOFFSETTO:-0500
TZNAME:CDT
DTSTART:20210314T080000
END:DAYLIGHT
BEGIN:STANDARD
TZOFFSETFROM:-0500
TZOFFSETTO:-0600
TZNAME:CST
DTSTART:20211107T070000
END:STANDARD
BEGIN:DAYLIGHT
TZOFFSETFROM:-0600
TZOFFSETTO:-0500
TZNAME:CDT
DTSTART:20220313T080000
END:DAYLIGHT
BEGIN:STANDARD
TZOFFSETFROM:-0500
TZOFFSETTO:-0600
TZNAME:CST
DTSTART:20221106T070000
END:STANDARD
BEGIN:DAYLIGHT
TZOFFSETFROM:-0600
TZOFFSETTO:-0500
TZNAME:CDT
DTSTART:20230312T080000
END:DAYLIGHT
BEGIN:STANDARD
TZOFFSETFROM:-0500
TZOFFSETTO:-0600
TZNAME:CST
DTSTART:20231105T070000
END:STANDARD
END:VTIMEZONE
BEGIN:VEVENT
DTSTART;TZID=America/Chicago:20220520T120000
DTEND;TZID=America/Chicago:20220520T163000
DTSTAMP:20260424T192725
CREATED:20220505T160518Z
LAST-MODIFIED:20220505T160518Z
UID:10000008-1653048000-1653064200@foundation2.org
SUMMARY:Putts for Prevention
DESCRIPTION:Putts for Prevention is a walkable nine hole putt-putt golf course all throughout downtown Cedar Rapids. Nine different bars and restaurants each host their own challenging putt-putt hole. There will be raffles and prizes throughout the day. Join us for a day of fun! \nTICKETS ARE SOLD OUT. \n\nLearn more about Putts for Prevention here.
URL:https://foundation2.org/event/putts-for-prevention/
LOCATION:Hazzard County CR\, 402 2nd Ave. SE\, Cedar Rapids\, 52401\, United States
CATEGORIES:Fundraiser
ATTACH;FMTTYPE=image/jpeg:https://foundation2.org/wp-content/uploads/2022/05/241844796_10159745013814962_5134511241363231075_n.jpg
END:VEVENT
END:VCALENDAR